BEGIN:VCALENDAR
VERSION:2.0
PRODID:-//Tauch-Club-Turtle e.V. Bischofsheim - ECPv6.15.20//NONSGML v1.0//EN
CALSCALE:GREGORIAN
METHOD:PUBLISH
X-ORIGINAL-URL:https://tauch-club-turtle.de
X-WR-CALDESC:Veranstaltungen für Tauch-Club-Turtle e.V. Bischofsheim
REFRESH-INTERVAL;VALUE=DURATION:PT1H
X-Robots-Tag:noindex
X-PUBLISHED-TTL:PT1H
BEGIN:VTIMEZONE
TZID:Europe/Berlin
BEGIN:DAYLIGHT
TZOFFSETFROM:+0100
TZOFFSETTO:+0200
TZNAME:CEST
DTSTART:20240331T010000
END:DAYLIGHT
BEGIN:STANDARD
TZOFFSETFROM:+0200
TZOFFSETTO:+0100
TZNAME:CET
DTSTART:20241027T010000
END:STANDARD
BEGIN:DAYLIGHT
TZOFFSETFROM:+0100
TZOFFSETTO:+0200
TZNAME:CEST
DTSTART:20250330T010000
END:DAYLIGHT
BEGIN:STANDARD
TZOFFSETFROM:+0200
TZOFFSETTO:+0100
TZNAME:CET
DTSTART:20251026T010000
END:STANDARD
BEGIN:DAYLIGHT
TZOFFSETFROM:+0100
TZOFFSETTO:+0200
TZNAME:CEST
DTSTART:20260329T010000
END:DAYLIGHT
BEGIN:STANDARD
TZOFFSETFROM:+0200
TZOFFSETTO:+0100
TZNAME:CET
DTSTART:20261025T010000
END:STANDARD
END:VTIMEZONE
BEGIN:VEVENT
DTSTART;TZID=Europe/Berlin:20250830T180000
DTEND;TZID=Europe/Berlin:20250830T180000
DTSTAMP:20260422T171924
CREATED:20230701T193357Z
LAST-MODIFIED:20250724T050525Z
UID:6072-1756576800-1756576800@tauch-club-turtle.de
SUMMARY:Sommerfest 2025
DESCRIPTION:Es sind alle Clubmitglieder mit Familie oder Partner ganz herzlich eingeladen. Auch Freunde unserer Clubmitglieder sind herzlich willkommen\, um sich mal ein Bild über das Tauchen im Verein zu machen. \nEs wird auf dem Gelände des Vereinsheim des Motorsportclubs Bischofsheim (MSC) gegrillt. Für Mitglieder und Kinder bis 14 Jahre ist das Essen frei. Nichtmitglieder zahlen eine Unkostenpauschale für das Essen in Höhe von 5\,00 EUR. Die Getränke werden selbst gezahlt. \nMeldet Euch bis spätestens zum 24.08.2025 über die Homepage des TCT an. Spätere Anmeldungen können nicht mehr berücksichtigt werden. Wegen der Planung des Essens muss der Anmeldeschluss unbedingt beachtet werden. \nAnmeldungen erfolgen bitte ausschließlich über den Anmeldebutton unten! \nFür eine Salatspende wären wir sehr dankbar. Deshalb\, falls jemand Zeit und Lust hat einen Salat mitzubringen\, kann uns dies gleich auf der Anmeldung mitteilen. \nVielen Dank im Voraus. \nDer Vorstand des TCT
URL:https://tauch-club-turtle.de/event/sommerfest-2024/
LOCATION:MSC-Bischofsheim\, Ginsheimer Landstrasse 21\, Bischofsheim\, 65474
ORGANIZER;CN="TCT-Vorstand":MAILTO:info@tauch-club-turtle.de
END:VEVENT
END:VCALENDAR